BEGIN:VCALENDAR
VERSION:2.0
PRODID:-//Threshing House - ECPv6.15.20//NONSGML v1.0//EN
CALSCALE:GREGORIAN
METHOD:PUBLISH
X-WR-CALNAME:Threshing House
X-ORIGINAL-URL:https://threshinghouse.org
X-WR-CALDESC:Events for Threshing House
REFRESH-INTERVAL;VALUE=DURATION:PT1H
X-Robots-Tag:noindex
X-PUBLISHED-TTL:PT1H
BEGIN:VTIMEZONE
TZID:UTC
BEGIN:STANDARD
TZOFFSETFROM:+0000
TZOFFSETTO:+0000
TZNAME:UTC
DTSTART:20250101T000000
END:STANDARD
END:VTIMEZONE
BEGIN:VEVENT
DTSTART;TZID=UTC:20260427T080000
DTEND;TZID=UTC:20260707T170000
DTSTAMP:20260422T154713
CREATED:20260216T102937Z
LAST-MODIFIED:20260421T095340Z
UID:4397-1777276800-1783443600@threshinghouse.org
SUMMARY:ILARO SCHOOL OUTREACH
DESCRIPTION:
URL:https://threshinghouse.org/event/ilaro/
ATTACH;FMTTYPE=image/jpeg:https://threshinghouse.org/wp-content/uploads/2026/02/675531145_977709711433936_2011129178506757098_n.jpg
END:VEVENT
END:VCALENDAR